Package: FISHalyseR Version: 1.40.0 Command: /Library/Frameworks/R.framework/Resources/bin/R CMD check --install=check:FISHalyseR.install-out.txt --library=/Library/Frameworks/R.framework/Resources/library --no-vignettes --timings FISHalyseR_1.40.0.tar.gz StartedAt: 2025-04-01 03:03:04 -0400 (Tue, 01 Apr 2025) EndedAt: 2025-04-01 03:04:38 -0400 (Tue, 01 Apr 2025) EllapsedTime: 94.0 seconds RetCode: 0 Status: WARNINGS CheckDir: FISHalyseR.Rcheck Warnings: 2