Package: FGNet Version: 3.40.0 Command: /home/biocbuild/R/R/bin/R CMD INSTALL FGNet StartedAt: 2025-03-31 20:18:06 -0000 (Mon, 31 Mar 2025) EndedAt: 2025-03-31 20:18:27 -0000 (Mon, 31 Mar 2025) EllapsedTime: 20.5 seconds RetCode: 0 Status: OK