Package: FGNet Version: 3.40.0 Command: /home/biocbuild/R/R/bin/R CMD check --install=check:FGNet.install-out.txt --library=/home/biocbuild/R/R/site-library --no-vignettes --timings FGNet_3.40.0.tar.gz StartedAt: 2025-04-01 06:29:43 -0000 (Tue, 01 Apr 2025) EndedAt: 2025-04-01 06:30:42 -0000 (Tue, 01 Apr 2025) EllapsedTime: 59.1 seconds RetCode: 0 Status: WARNINGS CheckDir: FGNet.Rcheck Warnings: 1