Package: FGNet Version: 3.40.0 Command: chmod a+r FGNet -R && F:\biocbuild\bbs-3.20-bioc\R\bin\R.exe CMD build --keep-empty-dirs --no-resave-data FGNet StartedAt: 2025-03-31 18:56:32 -0400 (Mon, 31 Mar 2025) EndedAt: 2025-03-31 18:57:05 -0400 (Mon, 31 Mar 2025) EllapsedTime: 33.7 seconds RetCode: 0 Status: OK PackageFile: FGNet_3.40.0.tar.gz PackageFileSize: 2.72 MiB