Package: FGNet Version: 3.40.0 Command: /home/biocbuild/bbs-3.20-bioc/R/bin/R CMD check --install=check:FGNet.install-out.txt --library=/home/biocbuild/bbs-3.20-bioc/R/site-library --timings FGNet_3.40.0.tar.gz StartedAt: 2025-03-31 22:10:20 -0400 (Mon, 31 Mar 2025) EndedAt: 2025-03-31 22:11:28 -0400 (Mon, 31 Mar 2025) EllapsedTime: 68.1 seconds RetCode: 0 Status: WARNINGS CheckDir: FGNet.Rcheck Warnings: 1