Package: FELLA Version: 1.26.0 Command: /home/biocbuild/R/R/bin/R CMD INSTALL FELLA StartedAt: 2025-03-31 20:20:14 -0000 (Mon, 31 Mar 2025) EndedAt: 2025-03-31 20:20:34 -0000 (Mon, 31 Mar 2025) EllapsedTime: 19.9 seconds RetCode: 0 Status: OK