Package: FELLA Version: 1.26.0 Command: /home/biocbuild/R/R/bin/R CMD build --keep-empty-dirs --no-resave-data FELLA StartedAt: 2025-03-31 23:29:22 -0000 (Mon, 31 Mar 2025) EndedAt: 2025-03-31 23:30:21 -0000 (Mon, 31 Mar 2025) EllapsedTime: 59.0 seconds RetCode: 1 Status: ERROR PackageFile: None PackageFileSize: NA