############################################################################## ############################################################################## ### ### Running command: ### ### F:\biocbuild\bbs-3.20-bioc\R\bin\R.exe CMD check --no-multiarch --install=check:FELLA.install-out.txt --library=F:\biocbuild\bbs-3.20-bioc\R\library --no-vignettes --timings FELLA_1.26.0.tar.gz ### ############################################################################## ############################################################################## * using log directory 'F:/biocbuild/bbs-3.20-bioc/meat/FELLA.Rcheck' * using R version 4.4.3 (2025-02-28 ucrt) * using platform: x86_64-w64-mingw32 * R was compiled by gcc.exe (GCC) 13.3.0 GNU Fortran (GCC) 13.3.0 * running under: Windows Server 2022 x64 (build 20348) * using session charset: UTF-8 * using option '--no-vignettes' * checking for file 'FELLA/DESCRIPTION' ... OK * checking extension type ... Package * this is package 'FELLA' version '1.26.0' * package encoding: UTF-8 * checking package namespace information ... OK * checking package dependencies ... OK * checking if this is a source package ... OK * checking if there is a namespace ... OK * checking for hidden files and directories ... OK * checking for portable file names ... OK * checking whether package 'FELLA' can be installed ... OK * checking installed package size ... OK * checking package directory ... OK * checking 'build' directory ... OK * checking DESCRIPTION meta-information ... OK * checking top-level files ... OK * checking for left-over files ... OK * checking index information ... OK * checking package subdirectories ... OK * checking code files for non-ASCII characters ... OK * checking R files for syntax errors ... OK * checking whether the package can be loaded ... OK * checking whether the package can be loaded with stated dependencies ... OK * checking whether the package can be unloaded cleanly ... OK * checking whether the namespace can be loaded with stated dependencies ... OK * checking whether the namespace can be unloaded cleanly ... OK * checking dependencies in R code ... OK * checking S3 generic/method consistency ... OK * checking replacement functions ... OK * checking foreign function calls ... OK * checking R code for possible problems ... NOTE buildGraphFromKEGGREST: no visible global function definition for 'capture.output' Undefined global functions or variables: capture.output Consider adding importFrom("utils", "capture.output") to your NAMESPACE file. * checking Rd files ... OK * checking Rd metadata ... OK * checking Rd cross-references ... OK * checking for missing documentation entries ... OK * checking for code/documentation mismatches ... OK * checking Rd \usage sections ... NOTE Documented arguments not in \usage in Rd file 'dot-params.Rd': 'databaseDir' 'internalDir' 'object' 'data' 'type' 'level' 'method' 'methods' 'approx' 'loadMatrix' 'threshold' 'thresholdConnectedComponent' 'plimit' 'nlimit' 'niter' 'layout' 'graph' 'GOterm' 'GONamesAsLabels' 'LabelLengthAtPlot' 'godata.options' 'mart.options' 'p.adjust' 'dampingFactor' 't.df' 'compounds' 'compoundsBackground' 'NamesAsLabels' 'capPscores' Documented arguments not in \usage in Rd file 'infere.con2ec.Rd': 'gene2enyzme' Functions with \usage entries need to have the appropriate \alias entries, and all their arguments documented. The \usage entries must correspond to syntactically valid R code. See chapter 'Writing R documentation files' in the 'Writing R Extensions' manual. * checking Rd contents ... OK * checking for unstated dependencies in examples ... OK * checking contents of 'data' directory ... OK * checking data for non-ASCII characters ... OK * checking data for ASCII and uncompressed saves ... OK * checking sizes of PDF files under 'inst/doc' ... OK * checking files in 'vignettes' ... OK * checking examples ... OK Examples with CPU (user + system) or elapsed time > 5s user system elapsed data-funs 8.95 0.4 9.42 * checking for unstated dependencies in 'tests' ... OK * checking tests ... Running 'testthat.R' ERROR Running the tests in 'tests/testthat.R' failed. Last 13 lines of output: 11. └─FELLA (local) .fun(piece, ...) 12. └─KEGGREST::keggLink(row[1], row[2]) 13. └─KEGGREST:::.getUrl(url, .listParser, nameColumn = 1, valueColumn = 2) 14. └─httr::stop_for_status(response) ── Error ('test-databaseCreation.R:31:5'): The graph can be parsed from KEGGREST ── Error in `eval(code, test_env)`: object 'g.full' not found Backtrace: ▆ 1. └─testthat::expect_is(g.full, "igraph") at test-databaseCreation.R:31:5 2. └─testthat::quasi_label(enquo(object), label, arg = "object") 3. └─rlang::eval_bare(expr, quo_get_env(quo)) [ FAIL 2 | WARN 9 | SKIP 0 | PASS 166 ] Error: Test failures Execution halted * checking for unstated dependencies in vignettes ... OK * checking package vignettes ... OK * checking running R code from vignettes ... SKIPPED * checking re-building of vignette outputs ... SKIPPED * checking PDF version of manual ... OK * DONE Status: 1 ERROR, 2 NOTEs See 'F:/biocbuild/bbs-3.20-bioc/meat/FELLA.Rcheck/00check.log' for details.