Package: FELLA Version: 1.26.0 Command: /home/biocbuild/bbs-3.20-bioc/R/bin/R CMD INSTALL FELLA StartedAt: 2025-03-31 15:15:34 -0400 (Mon, 31 Mar 2025) EndedAt: 2025-03-31 15:15:48 -0400 (Mon, 31 Mar 2025) EllapsedTime: 14.3 seconds RetCode: 0 Status: OK