Package: FELLA Version: 1.26.0 Command: /home/biocbuild/bbs-3.20-bioc/R/bin/R CMD build --keep-empty-dirs --no-resave-data --md5 FELLA StartedAt: 2025-03-31 17:15:42 -0400 (Mon, 31 Mar 2025) EndedAt: 2025-03-31 17:17:00 -0400 (Mon, 31 Mar 2025) EllapsedTime: 78.1 seconds RetCode: 1 Status: ERROR PackageFile: None PackageFileSize: NA