Package: ExploreModelMatrix Version: 1.18.0 Command: /Library/Frameworks/R.framework/Resources/bin/R CMD check --install=check:ExploreModelMatrix.install-out.txt --library=/Library/Frameworks/R.framework/Resources/library --no-vignettes --timings ExploreModelMatrix_1.18.0.tar.gz StartedAt: 2025-04-01 02:54:28 -0400 (Tue, 01 Apr 2025) EndedAt: 2025-04-01 02:56:50 -0400 (Tue, 01 Apr 2025) EllapsedTime: 142.1 seconds RetCode: 0 Status: OK CheckDir: ExploreModelMatrix.Rcheck Warnings: 0