Package: ExperimentHub Version: 2.14.0 Command: /home/biocbuild/R/R/bin/R CMD INSTALL ExperimentHub StartedAt: 2025-03-31 20:27:43 -0000 (Mon, 31 Mar 2025) EndedAt: 2025-03-31 20:28:01 -0000 (Mon, 31 Mar 2025) EllapsedTime: 17.9 seconds RetCode: 0 Status: OK