Package: ExperimentHub Version: 2.14.0 Command: /home/biocbuild/R/R/bin/R CMD build --keep-empty-dirs --no-resave-data ExperimentHub StartedAt: 2025-03-31 23:25:54 -0000 (Mon, 31 Mar 2025) EndedAt: 2025-03-31 23:26:36 -0000 (Mon, 31 Mar 2025) EllapsedTime: 42.0 seconds RetCode: 0 Status: OK PackageFile: ExperimentHub_2.14.0.tar.gz PackageFileSize: 514.5 KiB