Package: ExCluster Version: 1.24.0 Command: /home/biocbuild/bbs-3.20-bioc/R/bin/R CMD build --keep-empty-dirs --no-resave-data --md5 ExCluster StartedAt: 2025-03-31 17:13:37 -0400 (Mon, 31 Mar 2025) EndedAt: 2025-03-31 17:14:18 -0400 (Mon, 31 Mar 2025) EllapsedTime: 41.2 seconds RetCode: 0 Status: OK PackageFile: ExCluster_1.24.0.tar.gz PackageFileSize: 405.8 KiB