Package: ExCluster Version: 1.24.0 Command: /Library/Frameworks/R.framework/Resources/bin/R CMD build --keep-empty-dirs --no-resave-data ExCluster StartedAt: 2025-03-31 18:39:29 -0400 (Mon, 31 Mar 2025) EndedAt: 2025-03-31 18:41:01 -0400 (Mon, 31 Mar 2025) EllapsedTime: 91.3 seconds RetCode: 0 Status: OK PackageFile: ExCluster_1.24.0.tar.gz PackageFileSize: 404.9 KiB