Package: ExCluster Version: 1.24.0 Command: rm -rf ExCluster.buildbin-libdir && mkdir ExCluster.buildbin-libdir && /Users/biocbuild/BBS/utils/build-universal.sh ExCluster_1.24.0.tar.gz /Library/Frameworks/R.framework/Resources/bin/R ExCluster.buildbin-libdir StartedAt: 2025-04-02 14:18:51 -0400 (Wed, 02 Apr 2025) EndedAt: 2025-04-02 14:19:28 -0400 (Wed, 02 Apr 2025) EllapsedTime: 37.4 seconds RetCode: 0 Status: OK PackageFile: ExCluster_1.24.0.tgz PackageFileSize: 486.7 KiB