Package: EventPointer Version: 3.14.0 Command: chmod a+r EventPointer -R && F:\biocbuild\bbs-3.20-bioc\R\bin\R.exe CMD build --keep-empty-dirs --no-resave-data EventPointer StartedAt: 2025-03-31 18:50:16 -0400 (Mon, 31 Mar 2025) EndedAt: 2025-03-31 18:52:03 -0400 (Mon, 31 Mar 2025) EllapsedTime: 107.7 seconds RetCode: 0 Status: OK PackageFile: EventPointer_3.14.0.tar.gz PackageFileSize: 1.641 MiB