Package: EventPointer Version: 3.14.0 Command: rm -rf EventPointer.buildbin-libdir && mkdir EventPointer.buildbin-libdir && F:\biocbuild\bbs-3.20-bioc\R\bin\R.exe CMD INSTALL --build --library=EventPointer.buildbin-libdir EventPointer_3.14.0.tar.gz StartedAt: 2025-04-01 08:10:43 -0400 (Tue, 01 Apr 2025) EndedAt: 2025-04-01 08:12:21 -0400 (Tue, 01 Apr 2025) EllapsedTime: 98.4 seconds RetCode: 0 Status: OK PackageFile: EventPointer_3.14.0.zip PackageFileSize: 1.327 MiB