Package: EventPointer Version: 3.14.0 Command: /Library/Frameworks/R.framework/Resources/bin/R CMD check --install=check:EventPointer.install-out.txt --library=/Library/Frameworks/R.framework/Resources/library --no-vignettes --timings EventPointer_3.14.0.tar.gz StartedAt: 2025-04-01 18:49:11 -0400 (Tue, 01 Apr 2025) EndedAt: 2025-04-01 18:55:12 -0400 (Tue, 01 Apr 2025) EllapsedTime: 360.3 seconds RetCode: 0 Status: OK CheckDir: EventPointer.Rcheck Warnings: 0