Package: EpiTxDb Version: 1.18.0 Command: /home/biocbuild/R/R/bin/R CMD build --keep-empty-dirs --no-resave-data EpiTxDb StartedAt: 2025-03-31 23:20:37 -0000 (Mon, 31 Mar 2025) EndedAt: 2025-03-31 23:24:12 -0000 (Mon, 31 Mar 2025) EllapsedTime: 215.1 seconds RetCode: 0 Status: OK PackageFile: EpiTxDb_1.18.0.tar.gz PackageFileSize: 856.3 KiB