Package: EpiTxDb Version: 1.18.0 Command: chmod a+r EpiTxDb -R && F:\biocbuild\bbs-3.20-bioc\R\bin\R.exe CMD build --keep-empty-dirs --no-resave-data EpiTxDb StartedAt: 2025-03-31 18:45:14 -0400 (Mon, 31 Mar 2025) EndedAt: 2025-03-31 18:49:48 -0400 (Mon, 31 Mar 2025) EllapsedTime: 274.1 seconds RetCode: 0 Status: OK PackageFile: EpiTxDb_1.18.0.tar.gz PackageFileSize: 698.1 KiB