Package: EpiTxDb Version: 1.18.0 Command: rm -rf EpiTxDb.buildbin-libdir && mkdir EpiTxDb.buildbin-libdir && /Users/biocbuild/BBS/utils/build-universal.sh EpiTxDb_1.18.0.tar.gz /Library/Frameworks/R.framework/Resources/bin/R EpiTxDb.buildbin-libdir StartedAt: 2025-04-02 14:16:18 -0400 (Wed, 02 Apr 2025) EndedAt: 2025-04-02 14:17:13 -0400 (Wed, 02 Apr 2025) EllapsedTime: 54.2 seconds RetCode: 0 Status: OK PackageFile: EpiTxDb_1.18.0.tgz PackageFileSize: 1.696 MiB