Package: EpiMix Version: 1.8.0 Command: /home/biocbuild/bbs-3.20-bioc/R/bin/R CMD check --install=check:EpiMix.install-out.txt --library=/home/biocbuild/bbs-3.20-bioc/R/site-library --timings EpiMix_1.8.0.tar.gz StartedAt: 2025-03-31 21:56:12 -0400 (Mon, 31 Mar 2025) EndedAt: 2025-03-31 22:09:12 -0400 (Mon, 31 Mar 2025) EllapsedTime: 779.8 seconds RetCode: 0 Status: OK CheckDir: EpiMix.Rcheck Warnings: 0