Package: EpiMix Version: 1.8.0 Command: /Library/Frameworks/R.framework/Resources/bin/R CMD check --install=check:EpiMix.install-out.txt --library=/Library/Frameworks/R.framework/Resources/library --no-vignettes --timings EpiMix_1.8.0.tar.gz StartedAt: 2025-04-01 18:28:02 -0400 (Tue, 01 Apr 2025) EndedAt: 2025-04-01 18:36:01 -0400 (Tue, 01 Apr 2025) EllapsedTime: 478.8 seconds RetCode: 0 Status: OK CheckDir: EpiMix.Rcheck Warnings: 0