Package: EpiCompare Version: 1.10.1 Command: rm -rf EpiCompare.buildbin-libdir && mkdir EpiCompare.buildbin-libdir && F:\biocbuild\bbs-3.20-bioc\R\bin\R.exe CMD INSTALL --build --library=EpiCompare.buildbin-libdir EpiCompare_1.10.1.tar.gz StartedAt: 2025-04-01 08:09:01 -0400 (Tue, 01 Apr 2025) EndedAt: 2025-04-01 08:10:25 -0400 (Tue, 01 Apr 2025) EllapsedTime: 83.5 seconds RetCode: 0 Status: OK PackageFile: EpiCompare_1.10.1.zip PackageFileSize: 1.664 MiB