Package: EpiCompare Version: 1.10.1 Command: /Library/Frameworks/R.framework/Resources/bin/R CMD check --install=check:EpiCompare.install-out.txt --library=/Library/Frameworks/R.framework/Resources/library --no-vignettes --timings EpiCompare_1.10.1.tar.gz StartedAt: 2025-04-01 02:36:56 -0400 (Tue, 01 Apr 2025) EndedAt: 2025-04-01 03:02:58 -0400 (Tue, 01 Apr 2025) EllapsedTime: 1561.6 seconds RetCode: 0 Status: OK CheckDir: EpiCompare.Rcheck Warnings: 0