Package: EpiCompare Version: 1.10.1 Maintainer: Hiranyamaya Dash MaintainerEmail: hdash.work at gmail.com git_url: https://git.bioconductor.org/packages/EpiCompare git_branch: RELEASE_3_20 git_last_commit: 4930bd7 git_last_commit_date: 2025-02-12 07:25:53 -0400 (Wed, 12 Feb 2025)