Package: EnrichmentBrowser Version: 2.36.0 Command: /home/biocbuild/R/R/bin/R CMD build --keep-empty-dirs --no-resave-data EnrichmentBrowser StartedAt: 2025-03-31 23:16:42 -0000 (Mon, 31 Mar 2025) EndedAt: 2025-03-31 23:19:05 -0000 (Mon, 31 Mar 2025) EllapsedTime: 143.1 seconds RetCode: 0 Status: OK PackageFile: EnrichmentBrowser_2.36.0.tar.gz PackageFileSize: 1.357 MiB