Package: EnrichedHeatmap Version: 1.36.0 Command: /home/biocbuild/R/R/bin/R CMD check --install=check:EnrichedHeatmap.install-out.txt --library=/home/biocbuild/R/R/site-library --no-vignettes --timings EnrichedHeatmap_1.36.0.tar.gz StartedAt: 2025-04-01 06:11:42 -0000 (Tue, 01 Apr 2025) EndedAt: 2025-04-01 06:14:03 -0000 (Tue, 01 Apr 2025) EllapsedTime: 141.2 seconds RetCode: 0 Status: OK CheckDir: EnrichedHeatmap.Rcheck Warnings: 0