Package: EnrichedHeatmap Version: 1.36.0 Command: /home/biocbuild/R/R/bin/R CMD build --keep-empty-dirs --no-resave-data EnrichedHeatmap StartedAt: 2025-03-31 23:16:29 -0000 (Mon, 31 Mar 2025) EndedAt: 2025-03-31 23:23:36 -0000 (Mon, 31 Mar 2025) EllapsedTime: 427.2 seconds RetCode: 0 Status: OK PackageFile: EnrichedHeatmap_1.36.0.tar.gz PackageFileSize: 9.67 MiB