Package: EnrichedHeatmap Version: 1.36.0 Command: /home/biocbuild/bbs-3.20-bioc/R/bin/R CMD check --install=check:EnrichedHeatmap.install-out.txt --library=/home/biocbuild/bbs-3.20-bioc/R/site-library --timings EnrichedHeatmap_1.36.0.tar.gz StartedAt: 2025-03-31 21:53:12 -0400 (Mon, 31 Mar 2025) EndedAt: 2025-03-31 22:01:15 -0400 (Mon, 31 Mar 2025) EllapsedTime: 483.4 seconds RetCode: 0 Status: OK CheckDir: EnrichedHeatmap.Rcheck Warnings: 0