Package: EnrichedHeatmap Version: 1.36.0 Command: /Library/Frameworks/R.framework/Resources/bin/R CMD check --install=check:EnrichedHeatmap.install-out.txt --library=/Library/Frameworks/R.framework/Resources/library --no-vignettes --timings EnrichedHeatmap_1.36.0.tar.gz StartedAt: 2025-04-01 02:35:47 -0400 (Tue, 01 Apr 2025) EndedAt: 2025-04-01 02:40:00 -0400 (Tue, 01 Apr 2025) EllapsedTime: 252.8 seconds RetCode: 0 Status: OK CheckDir: EnrichedHeatmap.Rcheck Warnings: 0