Package: EnrichedHeatmap Version: 1.36.0 Command: /Library/Frameworks/R.framework/Resources/bin/R CMD build --keep-empty-dirs --no-resave-data EnrichedHeatmap StartedAt: 2025-03-31 18:30:32 -0400 (Mon, 31 Mar 2025) EndedAt: 2025-03-31 18:45:01 -0400 (Mon, 31 Mar 2025) EllapsedTime: 868.7 seconds RetCode: 0 Status: OK PackageFile: EnrichedHeatmap_1.36.0.tar.gz PackageFileSize: 13.15 MiB