Package: EnrichDO Version: 1.0.0 Command: /home/biocbuild/R/R/bin/R CMD INSTALL EnrichDO StartedAt: 2025-03-31 20:55:04 -0000 (Mon, 31 Mar 2025) EndedAt: 2025-03-31 20:55:40 -0000 (Mon, 31 Mar 2025) EllapsedTime: 35.3 seconds RetCode: 0 Status: OK