Package: EnrichDO Version: 1.0.0 Command: /Library/Frameworks/R.framework/Resources/bin/R CMD INSTALL EnrichDO StartedAt: 2025-03-31 16:10:50 -0400 (Mon, 31 Mar 2025) EndedAt: 2025-03-31 16:11:48 -0400 (Mon, 31 Mar 2025) EllapsedTime: 57.8 seconds RetCode: 0 Status: OK