Package: EnrichDO Version: 1.0.0 Command: /Library/Frameworks/R.framework/Resources/bin/R CMD INSTALL EnrichDO StartedAt: 2025-03-31 17:14:58 -0400 (Mon, 31 Mar 2025) EndedAt: 2025-03-31 17:15:31 -0400 (Mon, 31 Mar 2025) EllapsedTime: 32.4 seconds RetCode: 0 Status: OK