Package: EnrichDO Version: 1.0.0 Command: rm -rf EnrichDO.buildbin-libdir && mkdir EnrichDO.buildbin-libdir && /Users/biocbuild/BBS/utils/build-universal.sh EnrichDO_1.0.0.tar.gz /Library/Frameworks/R.framework/Resources/bin/R EnrichDO.buildbin-libdir StartedAt: 2025-04-02 14:13:17 -0400 (Wed, 02 Apr 2025) EndedAt: 2025-04-02 14:13:55 -0400 (Wed, 02 Apr 2025) EllapsedTime: 38.6 seconds RetCode: 0 Status: OK PackageFile: EnrichDO_1.0.0.tgz PackageFileSize: 3.627 MiB