Package: EnMCB Version: 1.18.0 Command: chmod a+r EnMCB -R && F:\biocbuild\bbs-3.20-bioc\R\bin\R.exe CMD build --keep-empty-dirs --no-resave-data EnMCB StartedAt: 2025-03-31 18:39:45 -0400 (Mon, 31 Mar 2025) EndedAt: 2025-03-31 18:40:38 -0400 (Mon, 31 Mar 2025) EllapsedTime: 52.6 seconds RetCode: 0 Status: OK PackageFile: EnMCB_1.18.0.tar.gz PackageFileSize: 4.929 MiB