Package: EnMCB Version: 1.18.0 Command: /home/biocbuild/bbs-3.20-bioc/R/bin/R CMD check --install=check:EnMCB.install-out.txt --library=/home/biocbuild/bbs-3.20-bioc/R/site-library --timings EnMCB_1.18.0.tar.gz StartedAt: 2025-03-31 21:53:00 -0400 (Mon, 31 Mar 2025) EndedAt: 2025-03-31 21:55:33 -0400 (Mon, 31 Mar 2025) EllapsedTime: 153.1 seconds RetCode: 0 Status: OK CheckDir: EnMCB.Rcheck Warnings: 0