Package: EWCE Version: 1.14.0 Command: /Library/Frameworks/R.framework/Resources/bin/R CMD build --keep-empty-dirs --no-resave-data EWCE StartedAt: 2025-03-31 18:39:15 -0400 (Mon, 31 Mar 2025) EndedAt: 2025-03-31 18:46:07 -0400 (Mon, 31 Mar 2025) EllapsedTime: 411.7 seconds RetCode: 0 Status: OK PackageFile: EWCE_1.14.0.tar.gz PackageFileSize: 2.542 MiB