Package: ERSSA Version: 1.24.0 Command: /home/biocbuild/R/R/bin/R CMD build --keep-empty-dirs --no-resave-data ERSSA StartedAt: 2025-03-31 23:23:36 -0000 (Mon, 31 Mar 2025) EndedAt: 2025-03-31 23:24:37 -0000 (Mon, 31 Mar 2025) EllapsedTime: 61.0 seconds RetCode: 0 Status: OK PackageFile: ERSSA_1.24.0.tar.gz PackageFileSize: 2.742 MiB