Package: ERSSA Version: 1.24.0 Command: F:\biocbuild\bbs-3.20-bioc\R\bin\R.exe CMD INSTALL ERSSA StartedAt: 2025-03-31 15:54:25 -0400 (Mon, 31 Mar 2025) EndedAt: 2025-03-31 15:55:05 -0400 (Mon, 31 Mar 2025) EllapsedTime: 39.9 seconds RetCode: 0 Status: OK