Package: ERSSA Version: 1.24.0 Command: /Library/Frameworks/R.framework/Resources/bin/R CMD INSTALL ERSSA StartedAt: 2025-03-31 15:42:17 -0400 (Mon, 31 Mar 2025) EndedAt: 2025-03-31 15:43:12 -0400 (Mon, 31 Mar 2025) EllapsedTime: 54.8 seconds RetCode: 0 Status: OK