Package: ERSSA Version: 1.24.0 Command: /Library/Frameworks/R.framework/Resources/bin/R CMD build --keep-empty-dirs --no-resave-data ERSSA StartedAt: 2025-03-31 18:37:30 -0400 (Mon, 31 Mar 2025) EndedAt: 2025-03-31 18:39:08 -0400 (Mon, 31 Mar 2025) EllapsedTime: 98.2 seconds RetCode: 0 Status: OK PackageFile: ERSSA_1.24.0.tar.gz PackageFileSize: 2.679 MiB