Package: ERSSA Version: 1.24.0 Command: /Library/Frameworks/R.framework/Resources/bin/R CMD INSTALL ERSSA StartedAt: 2025-03-31 15:54:44 -0400 (Mon, 31 Mar 2025) EndedAt: 2025-03-31 15:55:14 -0400 (Mon, 31 Mar 2025) EllapsedTime: 30.3 seconds RetCode: 0 Status: OK