Package: ERSSA Version: 1.24.0 Command: rm -rf ERSSA.buildbin-libdir && mkdir ERSSA.buildbin-libdir && /Users/biocbuild/BBS/utils/build-universal.sh ERSSA_1.24.0.tar.gz /Library/Frameworks/R.framework/Resources/bin/R ERSSA.buildbin-libdir StartedAt: 2025-04-02 14:17:30 -0400 (Wed, 02 Apr 2025) EndedAt: 2025-04-02 14:18:04 -0400 (Wed, 02 Apr 2025) EllapsedTime: 34.1 seconds RetCode: 0 Status: OK PackageFile: ERSSA_1.24.0.tgz PackageFileSize: 2.426 MiB