Package: ENmix Version: 1.42.2 Command: /home/biocbuild/R/R/bin/R CMD INSTALL ENmix StartedAt: 2025-03-31 21:06:13 -0000 (Mon, 31 Mar 2025) EndedAt: 2025-03-31 21:07:20 -0000 (Mon, 31 Mar 2025) EllapsedTime: 66.3 seconds RetCode: 0 Status: OK