Package: ENmix Version: 1.42.2 Command: /home/biocbuild/R/R/bin/R CMD build --keep-empty-dirs --no-resave-data ENmix StartedAt: 2025-03-31 23:15:19 -0000 (Mon, 31 Mar 2025) EndedAt: 2025-03-31 23:16:29 -0000 (Mon, 31 Mar 2025) EllapsedTime: 70.0 seconds RetCode: 0 Status: OK PackageFile: ENmix_1.42.2.tar.gz PackageFileSize: 20.08 MiB