Package: ENmix Version: 1.42.2 Command: /Library/Frameworks/R.framework/Resources/bin/R CMD build --keep-empty-dirs --no-resave-data ENmix StartedAt: 2025-03-31 23:01:21 -0400 (Mon, 31 Mar 2025) EndedAt: 2025-03-31 23:02:27 -0400 (Mon, 31 Mar 2025) EllapsedTime: 65.3 seconds RetCode: 0 Status: OK PackageFile: ENmix_1.42.2.tar.gz PackageFileSize: 20.02 MiB