Package: ENmix Version: 1.42.2 Command: rm -rf ENmix.buildbin-libdir && mkdir ENmix.buildbin-libdir && /Users/biocbuild/BBS/utils/build-universal.sh ENmix_1.42.2.tar.gz /Library/Frameworks/R.framework/Resources/bin/R ENmix.buildbin-libdir StartedAt: 2025-04-02 14:13:03 -0400 (Wed, 02 Apr 2025) EndedAt: 2025-04-02 14:14:10 -0400 (Wed, 02 Apr 2025) EllapsedTime: 67.0 seconds RetCode: 0 Status: OK PackageFile: ENmix_1.42.2.tgz PackageFileSize: 19.7 MiB